Workbook

Sheet Orientações
C5: Boas-vindas à sua planilha de orçamento de gastos com casamento Rico! Estamos aqui para ajudar você a realizar este sonho de forma organizada e segura. São três abas a partir das orientações organizadas da seguinte forma: Resumo Orçamento: você poderá ver a diferença entre a previsão dos gastos e os gastos reais, além do peso dado para cada elemento. Orçamento Final: você verá os valores finais fechados com cada fornecedor. Planejamento: saiba como usar a função Meus Objetivos para realizar o seu sonho com organização e planejamento financeiro.

Sheet Resumo Orçamento
D4: Nesta aba: 1. Preencha o valor total do seu orçamento conforme apontado em laranja abaixo (coluna C) 2. Preencha a "Previsão de Gastos" (coluna C) com o valor estimado que você gostaria de gastar em cada item
B8: PREVISÃO DE ORÇAMENTO | C8: VALOR
B9: Orçamento | C9: 100000 | D9: <-- Qual seu orçamento TOTAL? Coloque o valor aqui!
B10: Real | C10: =F123 -> 0
B11: Saldo | C11: =C9-C10 -> 100000
B13: ELEMENTOS | C13: PREVISÃO DE GASTOS | F13: GASTOS REAIS | I13: DIFERENÇA
C14: VALOR | D14: % | F14: VALOR | G14: % | I14: VALOR | J14: %
B16: VESTUÁRIO | C16: =SUM(C17:C27) -> 0 | D16: =IFERROR((C16/$C$123),0) -> 0 | F16: =SUM(F17:F27) -> 0 | G16: =IFERROR((F16/$F$123),0) -> 0 | I16: =SUM(I17:I27) -> 0 | J16: =G16-D16 -> 0
B17: Vestido de noiva | C17: 0 | D17: =IFERROR((C17/$C$123),0) -> 0 | F17: 0 | G17: =IFERROR((F17/$F$123),0) -> 0 | I17: =C17-F17 -> 0 | J17: =IF(C17=0,"",(F17/C17)-1)
B18: Sapato noiva | C18: 0 | D18: =IFERROR((C18/$C$123),0) -> 0 | F18: 0 | G18: =IFERROR((F18/$F$123),0) -> 0 | I18: =C18-F18 -> 0 | J18: =IF(C18=0,"",(F18/C18)-1)
B19: Cabelo noiva | C19: 0 | D19: =IFERROR((C19/$C$123),0) -> 0 | F19: 0 | G19: =IFERROR((F19/$F$123),0) -> 0 | I19: =C19-F19 -> 0 | J19: =IF(C19=0,"",(F19/C19)-1)
B20: Maquiagem noiva | C20: 0 | D20: =IFERROR((C20/$C$123),0) -> 0 | F20: 0 | G20: =IFERROR((F20/$F$123),0) -> 0 | I20: =C20-F20 -> 0 | J20: =IF(C20=0,"",(F20/C20)-1)
B21: Acessórios noiva | C21: 0 | D21: =IFERROR((C21/$C$123),0) -> 0 | F21: 0 | G21: =IFERROR((F21/$F$123),0) -> 0 | I21: =C21-F21 -> 0 | J21: =IF(C21=0,"",(F21/C21)-1)
B22: Terno noivo | C22: 0 | D22: =IFERROR((C22/$C$123),0) -> 0 | F22: 0 | G22: =IFERROR((F22/$F$123),0) -> 0 | I22: =C22-F22 -> 0 | J22: =IF(C22=0,"",(F22/C22)-1)
B23: Sapato noivo | C23: 0 | D23: =IFERROR((C23/$C$123),0) -> 0 | F23: 0 | G23: =IFERROR((F23/$F$123),0) -> 0 | I23: =C23-F23 -> 0 | J23: =IF(C23=0,"",(F23/C23)-1)
B24: Buquê | C24: 0 | D24: =IFERROR((C24/$C$123),0) -> 0 | F24: 0 | G24: =IFERROR((F24/$F$123),0) -> 0 | I24: =C24-F24 -> 0 | J24: =IF(C24=0,"",(F24/C24)-1)
B25: Alianças e porta alianças | C25: 0 | D25: =IFERROR((C25/$C$123),0) -> 0 | F25: 0 | G25: =IFERROR((F25/$F$123),0) -> 0 | I25: =C25-F25 -> 0 | J25: =IF(C25=0,"",(F25/C25)-1)
D26: =IFERROR((C26/$C$123),0) -> 0 | G26: =IFERROR((F26/$F$123),0) -> 0 | J26: =IF(C26=0,"",(F26/C26)-1)
D27: =IFERROR((C27/$C$123),0) -> 0 | G27: =IFERROR((F27/$F$123),0) -> 0 | J27: =IF(C27=0,"",(F27/C27)-1)
B28: CERIMÔNIA | C28: =SUM(C29:C33) -> 0 | D28: =IFERROR((C28/$C$123),0) -> 0 | F28: =SUM(F29:F33) -> 0 | G28: =IFERROR((F28/$F$123),0) -> 0 | I28: =SUM(I29:I33) -> 0 | J28: =IF(C28=0,"",(F28/C28)-1)
B29: Documentação Civil | C29: 0 | D29: =IFERROR((C29/$C$123),0) -> 0 | F29: 0 | G29: =IFERROR((F29/$F$123),0) -> 0 | I29: =C29-F29 -> 0 | J29: =IF(C29=0,"",(F29/C29)-1)
B30: Celebrante | C30: 0 | D30: =IFERROR((C30/$C$123),0) -> 0 | F30: 0 | G30: =IFERROR((F30/$F$123),0) -> 0 | I30: =C30-F30 -> 0 | J30: =IF(C30=0,"",(F30/C30)-1)
B31: Espaço | C31: 0 | D31: =IFERROR((C31/$C$123),0) -> 0 | F31: 0 | G31: =IFERROR((F31/$F$123),0) -> 0 | I31: =C31-F31 -> 0 | J31: =IF(C31=0,"",(F31/C31)-1)
C32: 0 | D32: =IFERROR((C32/$C$123),0) -> 0 | F32: 0 | G32: =IFERROR((F32/$F$123),0) -> 0 | I32: =C32-F32 -> 0 | J32: =IF(C32=0,"",(F32/C32)-1)
C33: 0 | D33: =IFERROR((C33/$C$123),0) -> 0 | F33: 0 | G33: =IFERROR((F33/$F$123),0) -> 0 | I33: =C33-F33 -> 0 | J33: =IF(C33=0,"",(F33/C33)-1)
B34: FESTA | C34: =SUM(C35:C40) -> 0 | D34: =IFERROR((C34/$C$123),0) -> 0 | F34: =SUM(F35:F40) -> 0 | G34: =IFERROR((F34/$F$123),0) -> 0 | I34: =SUM(I35:I40) -> 0 | J34: =IF(C34=0,"",(F34/C34)-1)
B35: Espaço | C35: 0 | D35: =IFERROR((C35/$C$123),0) -> 0 | F35: 0 | G35: =IFERROR((F35/$F$123),0) -> 0 | I35: =C35-F35 -> 0 | J35: =IF(C35=0,"",(F35/C35)-1)
B36: Serviço de Estacionamento | C36: 0 | D36: =IFERROR((C36/$C$123),0) -> 0 | F36: 0 | G36: =IFERROR((F36/$F$123),0) -> 0 | I36: =C36-F36 -> 0 | J36: =IF(C36=0,"",(F36/C36)-1)
B37: Segurança e Limpeza | C37: 0 | D37: =IFERROR((C37/$C$123),0) -> 0 | F37: 0 | G37: =IFERROR((F37/$F$123),0) -> 0 | I37: =C37-F37 -> 0 | J37: =IF(C37=0,"",(F37/C37)-1)
B38: Gerador de Energia | C38: 0 | D38: =IFERROR((C38/$C$123),0) -> 0 | F38: 0 | G38: =IFERROR((F38/$F$123),0) -> 0 | I38: =C38-F38 -> 0 | J38: =IF(C38=0,"",(F38/C38)-1)
C39: 0 | D39: =IFERROR((C39/$C$123),0) -> 0 | F39: 0 | G39: =IFERROR((F39/$F$123),0) -> 0 | I39: =C39-F39 -> 0 | J39: =IF(C39=0,"",(F39/C39)-1)
C40: 0 | D40: =IFERROR((C40/$C$123),0) -> 0 | F40: 0 | G40: =IFERROR((F40/$F$123),0) -> 0 | I40: =C40-F40 -> 0 | J40: =IF(C40=0,"",(F40/C40)-1)
B41: PAPELARIA | C41: =SUM(C42:C51) -> 0 | D41: =IFERROR((C41/$C$123),0) -> 0 | F41: =SUM(F42:F51) -> 0 | G41: =IFERROR((F41/$F$123),0) -> 0 | I41: =SUM(I42:I51) -> 0 | J41: =IF(C41=0,"",(F41/C41)-1)
B42: Convite | C42: 0 | D42: =IFERROR((C42/$C$123),0) -> 0 | F42: 0 | G42: =IFERROR((F42/$F$123),0) -> 0 | I42: =C42-F42 -> 0 | J42: =IF(C42=0,"",(F42/C42)-1)
B43: Convite padrinhos | C43: 0 | D43: =IFERROR((C43/$C$123),0) -> 0 | F43: 0 | G43: =IFERROR((F43/$F$123),0) -> 0 | I43: =C43-F43 -> 0 | J43: =IF(C43=0,"",(F43/C43)-1)
B44: Tag | C44: 0 | D44: =IFERROR((C44/$C$123),0) -> 0 | F44: 0 | G44: =IFERROR((F44/$F$123),0) -> 0 | I44: =C44-F44 -> 0 | J44: =IF(C44=0,"",(F44/C44)-1)
B45: Caligrafia | C45: 0 | D45: =IFERROR((C45/$C$123),0) -> 0 | F45: 0 | G45: =IFERROR((F45/$F$123),0) -> 0 | I45: =C45-F45 -> 0 | J45: =IF(C45=0,"",(F45/C45)-1)
B46: Adesivo | C46: 0 | D46: =IFERROR((C46/$C$123),0) -> 0 | F46: 0 | G46: =IFERROR((F46/$F$123),0) -> 0 | I46: =C46-F46 -> 0 | J46: =IF(C46=0,"",(F46/C46)-1)
B47: Menu | C47: 0 | D47: =IFERROR((C47/$C$123),0) -> 0 | F47: 0 | G47: =IFERROR((F47/$F$123),0) -> 0 | I47: =C47-F47 -> 0 | J47: =IF(C47=0,"",(F47/C47)-1)
B48: Cartão agradecimento | C48: 0 | D48: =IFERROR((C48/$C$123),0) -> 0 | F48: 0 | G48: =IFERROR((F48/$F$123),0) -> 0 | I48: =C48-F48 -> 0 | J48: =IF(C48=0,"",(F48/C48)-1)
...

Sheet Orçamento Final
C3: DADOS PRINCIPAIS | F3: Escreva abaixo o mês do primeiro pagamento no formato MMM-AA | H3: Nesta aba: Os valores finais preenchidos na aba de resumo vão aparecer aqui de forma automatizada, restando a você preencher as células de pagamento mensal.
C4: Data do evento: | D4: 46388
C5: N° convidados:
C6: Orçamento: | D6: ='Resumo Orçamento'!C9 -> 100000
B8: ELEMENTOS | C8: FORNECEDOR | D8: VALOR TOTAL | F8: =EDATE(G8, -1) -> 45658 | G8: =EDATE(H8, -1) -> 45689 | H8: =EDATE(I8, -1) -> 45717 | I8: =EDATE(J8, -1) -> 45748 | J8: =EDATE(K8, -1) -> 45778 | K8: =EDATE(L8, -1) -> 45809 | L8: =EDATE(M8, -1) -> 45839 | M8: =EDATE(N8, -1) -> 45870 | ... AB8: =EDATE(AC8, -1) -> 46327 | AC8: =EDATE(D4, -1) -> 46357 | AE8: TOTAL PAGO | AF8: SALDO A PAGAR
B9: TOTAL | D9: =SUM(D11,D23,D29,D36,D47,D54,D58,D64,D70,D80,D85,D94,D101,D108,D113) -> 0 | F9: =SUM(F11,F23,F29,F36,F47,F54,F58,F64,F70,F80,F85,F94,F101,F108,F113) -> 0 | G9: =SUM(G11,G23,G29,G36,G47,G54,G58,G64,G70,G80,G85,G94,G101,G108,G113) -> 0 | H9: =SUM(H11,H23,H29,H36,H47,H54,H58,H64,H70,H80,H85,H94,H101,H108,H113) -> 0 | I9: =SUM(I11,I23,I29,I36,I47,I54,I58,I64,I70,I80,I85,I94,I101,I108,I113) -> 0 | J9: =SUM(J11,J23,J29,J36,J47,J54,J58,J64,J70,J80,J85,J94,J101,J108,J113) -> 0 | K9: =SUM(K11,K23,K29,K36,K47,K54,K58,K64,K70,K80,K85,K94,K101,K108,K113) -> 0 | L9: =SUM(L11,L23,L29,L36,L47,L54,L58,L64,L70,L80,L85,L94,L101,L108,L113) -> 0 | M9: =SUM(M11,M23,M29,M36,M47,M54,M58,M64,M70,M80,M85,M94,M101,M108,M113) -> 0 | ... AC9: =SUM(AC11,AC23,AC29,AC36,AC47,AC54,AC58,AC64,AC70,AC80,AC85,AC94,AC101,AC108,AC113) -> 0 | AE9: =SUM(AE11,AE23,AE29,AE36,AE47,AE54,AE58,AE64,AE70,AE80,AE85,AE94,AE101,AE108,AE113) -> 0 | AF9: =SUM(AF11,AF23,AF29,AF36,AF47,AF54,AF58,AF64,AF70,AF80,AF85,AF94,AF101,AF108,AF113) -> 0
B11: VESTUÁRIO | D11: ='Resumo Orçamento'!F16 -> 0 | F11: =SUM(F12:F22) -> 0 | G11: =SUM(G12:G22) -> 0 | H11: =SUM(H12:H22) -> 0 | I11: =SUM(I12:I22) -> 0 | J11: =SUM(J12:J22) -> 0 | K11: =SUM(K12:K22) -> 0 | L11: =SUM(L12:L22) -> 0 | M11: =SUM(M12:M22) -> 0 | ... AC11: =SUM(AC12:AC22) -> 0 | AE11: =SUM(AE12:AE22) -> 0 | AF11: =SUM(AF12:AF22) -> 0
B12: Vestido de noiva | D12: ='Resumo Orçamento'!F17 -> 0 | AE12: =SUM(F12:AC12) -> 0 | AF12: =D12-AE12 -> 0
B13: Sapato noiva | D13: ='Resumo Orçamento'!F18 -> 0 | AE13: =SUM(F13:AC13) -> 0 | AF13: =D13-AE13 -> 0
B14: Cabelo noiva | D14: ='Resumo Orçamento'!F19 -> 0 | AE14: =SUM(F14:AC14) -> 0 | AF14: =D14-AE14 -> 0
B15: Maquiagem noiva | D15: ='Resumo Orçamento'!F20 -> 0 | AE15: =SUM(F15:AC15) -> 0 | AF15: =D15-AE15 -> 0
B16: Acessórios noiva | D16: ='Resumo Orçamento'!F21 -> 0 | AE16: =SUM(F16:AC16) -> 0 | AF16: =D16-AE16 -> 0
B17: Terno noivo | D17: ='Resumo Orçamento'!F22 -> 0 | AE17: =SUM(F17:AC17) -> 0 | AF17: =D17-AE17 -> 0
B18: Sapato noivo | D18: ='Resumo Orçamento'!F23 -> 0 | AE18: =SUM(F18:AC18) -> 0 | AF18: =D18-AE18 -> 0
B19: Buquê | D19: ='Resumo Orçamento'!F24 -> 0 | AE19: =SUM(F19:AC19) -> 0 | AF19: =D19-AE19 -> 0
B20: Alianças e porta alianças | D20: ='Resumo Orçamento'!F25 -> 0 | AE20: =SUM(F20:AC20) -> 0 | AF20: =D20-AE20 -> 0
D21: ='Resumo Orçamento'!F26 -> 0 | AE21: =SUM(F21:AC21) -> 0 | AF21: =D21-AE21 -> 0
D22: ='Resumo Orçamento'!F27 -> 0 | AE22: =SUM(F22:AC22) -> 0 | AF22: =D22-AE22 -> 0
B23: CERIMÔNIA | D23: ='Resumo Orçamento'!F28 -> 0 | F23: =SUM(F24:F28) -> 0 | G23: =SUM(G24:G28) -> 0 | H23: =SUM(H24:H28) -> 0 | I23: =SUM(I24:I28) -> 0 | J23: =SUM(J24:J28) -> 0 | K23: =SUM(K24:K28) -> 0 | L23: =SUM(L24:L28) -> 0 | M23: =SUM(M24:M28) -> 0 | ... AC23: =SUM(AC24:AC28) -> 0 | AE23: =SUM(AE24:AE28) -> 0 | AF23: =SUM(AF24:AF28) -> 0
B24: Documentação Civil | D24: ='Resumo Orçamento'!F29 -> 0 | AE24: =SUM(F24:AC24) -> 0 | AF24: =D24-AE24 -> 0
B25: Celebrante | D25: ='Resumo Orçamento'!F30 -> 0 | AE25: =SUM(F25:AC25) -> 0 | AF25: =D25-AE25 -> 0
B26: Espaço | D26: ='Resumo Orçamento'!F31 -> 0 | AE26: =SUM(F26:AC26) -> 0 | AF26: =D26-AE26 -> 0
D27: ='Resumo Orçamento'!F32 -> 0 | AE27: =SUM(F27:AC27) -> 0 | AF27: =D27-AE27 -> 0
D28: ='Resumo Orçamento'!F33 -> 0 | AE28: =SUM(F28:AC28) -> 0 | AF28: =D28-AE28 -> 0
B29: FESTA | D29: ='Resumo Orçamento'!F34 -> 0 | F29: =SUM(F30:F35) -> 0 | G29: =SUM(G30:G35) -> 0 | H29: =SUM(H30:H35) -> 0 | I29: =SUM(I30:I35) -> 0 | J29: =SUM(J30:J35) -> 0 | K29: =SUM(K30:K35) -> 0 | L29: =SUM(L30:L35) -> 0 | M29: =SUM(M30:M35) -> 0 | ... AC29: =SUM(AC30:AC35) -> 0 | AE29: =SUM(AE30:AE35) -> 0 | AF29: =SUM(AF30:AF35) -> 0
B30: Espaço | D30: ='Resumo Orçamento'!F35 -> 0 | AE30: =SUM(F30:AC30) -> 0 | AF30: =D30-AE30 -> 0
B31: Serviço de Estacionamento | D31: ='Resumo Orçamento'!F36 -> 0 | AE31: =SUM(F31:AC31) -> 0 | AF31: =D31-AE31 -> 0
B32: Segurança e Limpeza | D32: ='Resumo Orçamento'!F37 -> 0 | AE32: =SUM(F32:AC32) -> 0 | AF32: =D32-AE32 -> 0
B33: Gerador de Energia | D33: ='Resumo Orçamento'!F38 -> 0 | AE33: =SUM(F33:AC33) -> 0 | AF33: =D33-AE33 -> 0
D34: ='Resumo Orçamento'!F39 -> 0 | AE34: =SUM(F34:AC34) -> 0 | AF34: =D34-AE34 -> 0
D35: ='Resumo Orçamento'!F40 -> 0 | AE35: =SUM(F35:AC35) -> 0 | AF35: =D35-AE35 -> 0
B36: PAPELARIA | D36: ='Resumo Orçamento'!F41 -> 0 | F36: =SUM(F37:F46) -> 0 | G36: =SUM(G37:G46) -> 0 | H36: =SUM(H37:H46) -> 0 | I36: =SUM(I37:I46) -> 0 | J36: =SUM(J37:J46) -> 0 | K36: =SUM(K37:K46) -> 0 | L36: =SUM(L37:L46) -> 0 | M36: =SUM(M37:M46) -> 0 | ... AC36: =SUM(AC37:AC46) -> 0 | AE36: =SUM(AE37:AE48) -> 0 | AF36: =SUM(AF37:AF48) -> 0
B37: Convite | D37: ='Resumo Orçamento'!F42 -> 0 | AE37: =SUM(F37:AC37) -> 0 | AF37: =D37-AE37 -> 0
B38: Convite padrinhos | D38: ='Resumo Orçamento'!F43 -> 0 | AE38: =SUM(F38:AC38) -> 0 | AF38: =D38-AE38 -> 0
B39: Tag | D39: ='Resumo Orçamento'!F44 -> 0 | AE39: =SUM(F39:AC39) -> 0 | AF39: =D39-AE39 -> 0
B40: Caligrafia | D40: ='Resumo Orçamento'!F45 -> 0 | AE40: =SUM(F40:AC40) -> 0 | AF40: =D40-AE40 -> 0
B41: Adesivo | D41: ='Resumo Orçamento'!F46 -> 0 | AE41: =SUM(F41:AC41) -> 0 | AF41: =D41-AE41 -> 0
B42: Menu | D42: ='Resumo Orçamento'!F47 -> 0 | AE42: =SUM(F42:AC42) -> 0 | AF42: =D42-AE42 -> 0
B43: Cartão agradecimento | D43: ='Resumo Orçamento'!F48 -> 0 | AE43: =SUM(F43:AC43) -> 0 | AF43: =D43-AE43 -> 0
B44: Livro de recados | D44: ='Resumo Orçamento'!F49 -> 0 | AE44: =SUM(F44:AC44) -> 0 | AF44: =D44-AE44 -> 0
...

Sheet Planejamento
B1: A partir de agora, você poderá investir de forma personalizada em diversos objetivos direto no app da Rico. Veja como é fácil!
B8: 1. Selecione ou crie um objetivo personalizado.
B23: 2. Determine o valor que você precisa para realizar o seu objetivo.
B24: No caso do planejamento do seu casamento, você pode abrir mais de um objetivo, a depender de quando você precisará resgatar o investimento para realizar o pagamento ao fornecedor.
B41: 3. Informe o valor inicial disponível para o investimento
B57: 4. Determine o prazo para alcançar o valor necessário.
B73: 5. Veja a recomendação mensal de investimento ideal para seu objetivo.
B88: 6. Confira qual o melhor produto para que você alcance o seu objetivo.
